BEGIN:VCALENDAR
VERSION:2.0
PRODID:-//Joriskerk Amersfoort - ECPv6.15.20//NONSGML v1.0//EN
CALSCALE:GREGORIAN
METHOD:PUBLISH
X-WR-CALNAME:Joriskerk Amersfoort
X-ORIGINAL-URL:https://new.joriskerkamersfoort.nl
X-WR-CALDESC:Evenementen voor Joriskerk Amersfoort
REFRESH-INTERVAL;VALUE=DURATION:PT1H
X-Robots-Tag:noindex
X-PUBLISHED-TTL:PT1H
BEGIN:VTIMEZONE
TZID:Europe/Amsterdam
BEGIN:DAYLIGHT
TZOFFSETFROM:+0100
TZOFFSETTO:+0200
TZNAME:CEST
DTSTART:20250330T010000
END:DAYLIGHT
BEGIN:STANDARD
TZOFFSETFROM:+0200
TZOFFSETTO:+0100
TZNAME:CET
DTSTART:20251026T010000
END:STANDARD
BEGIN:DAYLIGHT
TZOFFSETFROM:+0100
TZOFFSETTO:+0200
TZNAME:CEST
DTSTART:20260329T010000
END:DAYLIGHT
BEGIN:STANDARD
TZOFFSETFROM:+0200
TZOFFSETTO:+0100
TZNAME:CET
DTSTART:20261025T010000
END:STANDARD
BEGIN:DAYLIGHT
TZOFFSETFROM:+0100
TZOFFSETTO:+0200
TZNAME:CEST
DTSTART:20270328T010000
END:DAYLIGHT
BEGIN:STANDARD
TZOFFSETFROM:+0200
TZOFFSETTO:+0100
TZNAME:CET
DTSTART:20271031T010000
END:STANDARD
END:VTIMEZONE
BEGIN:VEVENT
DTSTART;TZID=Europe/Amsterdam:20260513T110000
DTEND;TZID=Europe/Amsterdam:20260513T170000
DTSTAMP:20260419T191017
CREATED:20260317T141537Z
LAST-MODIFIED:20260407T103217Z
UID:10000005-1778670000-1778691600@new.joriskerkamersfoort.nl
SUMMARY:Openingsdagen
DESCRIPTION:Tijdens de zomer is de Sint-Joriskerk van dinsdag t/m zaterdag geopend voor bezoekers. Een plaats van rust en stilte of om rond te kijken in het bijzondere gebouw. We openen van 13 mei t/m 3 oktober 2026. We zien u graag dan! \nGratis kinderspeurtocht\nMet kinderen op speurtocht in de Sint-Joriskerk? Kinderen kunnen tijdens de openstelling een (gratis!) speurtocht komen doen. Begeleiding van een volwassene verplicht\, meer informatie te vinden bij de ingang. \nEntree informatie\nDe kerk is geopend op dinsdag t/m zaterdag\, van 11:00 – 17:00 uur. Entree kost €2\, toegang tot 12 jaar\, of als Vriend van de Sint-Joriskerk\, gratis.
URL:https://new.joriskerkamersfoort.nl/evenement/reguliere-openstelling/2026-05-13/
LOCATION:Sint-Joriskerk\, Hof 1\, Amersfoort\, 3811 CJ\, Netherlands
CATEGORIES:Regulier
ATTACH;FMTTYPE=image/jpeg:https://new.joriskerkamersfoort.nl/wp-content/uploads/2026/03/Joriskerk_instagram_v12-scaled.jpg
END:VEVENT
BEGIN:VEVENT
DTSTART;TZID=Europe/Amsterdam:20260514T110000
DTEND;TZID=Europe/Amsterdam:20260514T170000
DTSTAMP:20260419T191017
CREATED:20260317T141537Z
LAST-MODIFIED:20260407T103217Z
UID:10000006-1778756400-1778778000@new.joriskerkamersfoort.nl
SUMMARY:Openingsdagen
DESCRIPTION:Tijdens de zomer is de Sint-Joriskerk van dinsdag t/m zaterdag geopend voor bezoekers. Een plaats van rust en stilte of om rond te kijken in het bijzondere gebouw. We openen van 13 mei t/m 3 oktober 2026. We zien u graag dan! \nGratis kinderspeurtocht\nMet kinderen op speurtocht in de Sint-Joriskerk? Kinderen kunnen tijdens de openstelling een (gratis!) speurtocht komen doen. Begeleiding van een volwassene verplicht\, meer informatie te vinden bij de ingang. \nEntree informatie\nDe kerk is geopend op dinsdag t/m zaterdag\, van 11:00 – 17:00 uur. Entree kost €2\, toegang tot 12 jaar\, of als Vriend van de Sint-Joriskerk\, gratis.
URL:https://new.joriskerkamersfoort.nl/evenement/reguliere-openstelling/2026-05-14/
LOCATION:Sint-Joriskerk\, Hof 1\, Amersfoort\, 3811 CJ\, Netherlands
CATEGORIES:Regulier
ATTACH;FMTTYPE=image/jpeg:https://new.joriskerkamersfoort.nl/wp-content/uploads/2026/03/Joriskerk_instagram_v12-scaled.jpg
END:VEVENT
BEGIN:VEVENT
DTSTART;TZID=Europe/Amsterdam:20260515T110000
DTEND;TZID=Europe/Amsterdam:20260515T170000
DTSTAMP:20260419T191017
CREATED:20260317T141537Z
LAST-MODIFIED:20260407T103217Z
UID:10000007-1778842800-1778864400@new.joriskerkamersfoort.nl
SUMMARY:Openingsdagen
DESCRIPTION:Tijdens de zomer is de Sint-Joriskerk van dinsdag t/m zaterdag geopend voor bezoekers. Een plaats van rust en stilte of om rond te kijken in het bijzondere gebouw. We openen van 13 mei t/m 3 oktober 2026. We zien u graag dan! \nGratis kinderspeurtocht\nMet kinderen op speurtocht in de Sint-Joriskerk? Kinderen kunnen tijdens de openstelling een (gratis!) speurtocht komen doen. Begeleiding van een volwassene verplicht\, meer informatie te vinden bij de ingang. \nEntree informatie\nDe kerk is geopend op dinsdag t/m zaterdag\, van 11:00 – 17:00 uur. Entree kost €2\, toegang tot 12 jaar\, of als Vriend van de Sint-Joriskerk\, gratis.
URL:https://new.joriskerkamersfoort.nl/evenement/reguliere-openstelling/2026-05-15/
LOCATION:Sint-Joriskerk\, Hof 1\, Amersfoort\, 3811 CJ\, Netherlands
CATEGORIES:Regulier
ATTACH;FMTTYPE=image/jpeg:https://new.joriskerkamersfoort.nl/wp-content/uploads/2026/03/Joriskerk_instagram_v12-scaled.jpg
END:VEVENT
BEGIN:VEVENT
DTSTART;TZID=Europe/Amsterdam:20260516T110000
DTEND;TZID=Europe/Amsterdam:20260516T170000
DTSTAMP:20260419T191017
CREATED:20260317T141537Z
LAST-MODIFIED:20260407T103217Z
UID:10000008-1778929200-1778950800@new.joriskerkamersfoort.nl
SUMMARY:Openingsdagen
DESCRIPTION:Tijdens de zomer is de Sint-Joriskerk van dinsdag t/m zaterdag geopend voor bezoekers. Een plaats van rust en stilte of om rond te kijken in het bijzondere gebouw. We openen van 13 mei t/m 3 oktober 2026. We zien u graag dan! \nGratis kinderspeurtocht\nMet kinderen op speurtocht in de Sint-Joriskerk? Kinderen kunnen tijdens de openstelling een (gratis!) speurtocht komen doen. Begeleiding van een volwassene verplicht\, meer informatie te vinden bij de ingang. \nEntree informatie\nDe kerk is geopend op dinsdag t/m zaterdag\, van 11:00 – 17:00 uur. Entree kost €2\, toegang tot 12 jaar\, of als Vriend van de Sint-Joriskerk\, gratis.
URL:https://new.joriskerkamersfoort.nl/evenement/reguliere-openstelling/2026-05-16/
LOCATION:Sint-Joriskerk\, Hof 1\, Amersfoort\, 3811 CJ\, Netherlands
CATEGORIES:Regulier
ATTACH;FMTTYPE=image/jpeg:https://new.joriskerkamersfoort.nl/wp-content/uploads/2026/03/Joriskerk_instagram_v12-scaled.jpg
END:VEVENT
BEGIN:VEVENT
DTSTART;TZID=Europe/Amsterdam:20260526T110000
DTEND;TZID=Europe/Amsterdam:20260526T170000
DTSTAMP:20260419T191017
CREATED:20260317T141537Z
LAST-MODIFIED:20260407T103217Z
UID:10000014-1779793200-1779814800@new.joriskerkamersfoort.nl
SUMMARY:Openingsdagen
DESCRIPTION:Tijdens de zomer is de Sint-Joriskerk van dinsdag t/m zaterdag geopend voor bezoekers. Een plaats van rust en stilte of om rond te kijken in het bijzondere gebouw. We openen van 13 mei t/m 3 oktober 2026. We zien u graag dan! \nGratis kinderspeurtocht\nMet kinderen op speurtocht in de Sint-Joriskerk? Kinderen kunnen tijdens de openstelling een (gratis!) speurtocht komen doen. Begeleiding van een volwassene verplicht\, meer informatie te vinden bij de ingang. \nEntree informatie\nDe kerk is geopend op dinsdag t/m zaterdag\, van 11:00 – 17:00 uur. Entree kost €2\, toegang tot 12 jaar\, of als Vriend van de Sint-Joriskerk\, gratis.
URL:https://new.joriskerkamersfoort.nl/evenement/reguliere-openstelling/2026-05-26/
LOCATION:Sint-Joriskerk\, Hof 1\, Amersfoort\, 3811 CJ\, Netherlands
CATEGORIES:Regulier
ATTACH;FMTTYPE=image/jpeg:https://new.joriskerkamersfoort.nl/wp-content/uploads/2026/03/Joriskerk_instagram_v12-scaled.jpg
END:VEVENT
BEGIN:VEVENT
DTSTART;TZID=Europe/Amsterdam:20260527T110000
DTEND;TZID=Europe/Amsterdam:20260527T170000
DTSTAMP:20260419T191017
CREATED:20260317T141537Z
LAST-MODIFIED:20260407T103217Z
UID:10000015-1779879600-1779901200@new.joriskerkamersfoort.nl
SUMMARY:Openingsdagen
DESCRIPTION:Tijdens de zomer is de Sint-Joriskerk van dinsdag t/m zaterdag geopend voor bezoekers. Een plaats van rust en stilte of om rond te kijken in het bijzondere gebouw. We openen van 13 mei t/m 3 oktober 2026. We zien u graag dan! \nGratis kinderspeurtocht\nMet kinderen op speurtocht in de Sint-Joriskerk? Kinderen kunnen tijdens de openstelling een (gratis!) speurtocht komen doen. Begeleiding van een volwassene verplicht\, meer informatie te vinden bij de ingang. \nEntree informatie\nDe kerk is geopend op dinsdag t/m zaterdag\, van 11:00 – 17:00 uur. Entree kost €2\, toegang tot 12 jaar\, of als Vriend van de Sint-Joriskerk\, gratis.
URL:https://new.joriskerkamersfoort.nl/evenement/reguliere-openstelling/2026-05-27/
LOCATION:Sint-Joriskerk\, Hof 1\, Amersfoort\, 3811 CJ\, Netherlands
CATEGORIES:Regulier
ATTACH;FMTTYPE=image/jpeg:https://new.joriskerkamersfoort.nl/wp-content/uploads/2026/03/Joriskerk_instagram_v12-scaled.jpg
END:VEVENT
BEGIN:VEVENT
DTSTART;TZID=Europe/Amsterdam:20260528T110000
DTEND;TZID=Europe/Amsterdam:20260528T170000
DTSTAMP:20260419T191017
CREATED:20260317T141537Z
LAST-MODIFIED:20260407T103217Z
UID:10000016-1779966000-1779987600@new.joriskerkamersfoort.nl
SUMMARY:Openingsdagen
DESCRIPTION:Tijdens de zomer is de Sint-Joriskerk van dinsdag t/m zaterdag geopend voor bezoekers. Een plaats van rust en stilte of om rond te kijken in het bijzondere gebouw. We openen van 13 mei t/m 3 oktober 2026. We zien u graag dan! \nGratis kinderspeurtocht\nMet kinderen op speurtocht in de Sint-Joriskerk? Kinderen kunnen tijdens de openstelling een (gratis!) speurtocht komen doen. Begeleiding van een volwassene verplicht\, meer informatie te vinden bij de ingang. \nEntree informatie\nDe kerk is geopend op dinsdag t/m zaterdag\, van 11:00 – 17:00 uur. Entree kost €2\, toegang tot 12 jaar\, of als Vriend van de Sint-Joriskerk\, gratis.
URL:https://new.joriskerkamersfoort.nl/evenement/reguliere-openstelling/2026-05-28/
LOCATION:Sint-Joriskerk\, Hof 1\, Amersfoort\, 3811 CJ\, Netherlands
CATEGORIES:Regulier
ATTACH;FMTTYPE=image/jpeg:https://new.joriskerkamersfoort.nl/wp-content/uploads/2026/03/Joriskerk_instagram_v12-scaled.jpg
END:VEVENT
BEGIN:VEVENT
DTSTART;TZID=Europe/Amsterdam:20260529T110000
DTEND;TZID=Europe/Amsterdam:20260529T170000
DTSTAMP:20260419T191017
CREATED:20260317T141537Z
LAST-MODIFIED:20260407T103217Z
UID:10000017-1780052400-1780074000@new.joriskerkamersfoort.nl
SUMMARY:Openingsdagen
DESCRIPTION:Tijdens de zomer is de Sint-Joriskerk van dinsdag t/m zaterdag geopend voor bezoekers. Een plaats van rust en stilte of om rond te kijken in het bijzondere gebouw. We openen van 13 mei t/m 3 oktober 2026. We zien u graag dan! \nGratis kinderspeurtocht\nMet kinderen op speurtocht in de Sint-Joriskerk? Kinderen kunnen tijdens de openstelling een (gratis!) speurtocht komen doen. Begeleiding van een volwassene verplicht\, meer informatie te vinden bij de ingang. \nEntree informatie\nDe kerk is geopend op dinsdag t/m zaterdag\, van 11:00 – 17:00 uur. Entree kost €2\, toegang tot 12 jaar\, of als Vriend van de Sint-Joriskerk\, gratis.
URL:https://new.joriskerkamersfoort.nl/evenement/reguliere-openstelling/2026-05-29/
LOCATION:Sint-Joriskerk\, Hof 1\, Amersfoort\, 3811 CJ\, Netherlands
CATEGORIES:Regulier
ATTACH;FMTTYPE=image/jpeg:https://new.joriskerkamersfoort.nl/wp-content/uploads/2026/03/Joriskerk_instagram_v12-scaled.jpg
END:VEVENT
BEGIN:VEVENT
DTSTART;TZID=Europe/Amsterdam:20260530T110000
DTEND;TZID=Europe/Amsterdam:20260530T170000
DTSTAMP:20260419T191017
CREATED:20260317T141537Z
LAST-MODIFIED:20260407T103217Z
UID:10000018-1780138800-1780160400@new.joriskerkamersfoort.nl
SUMMARY:Openingsdagen
DESCRIPTION:Tijdens de zomer is de Sint-Joriskerk van dinsdag t/m zaterdag geopend voor bezoekers. Een plaats van rust en stilte of om rond te kijken in het bijzondere gebouw. We openen van 13 mei t/m 3 oktober 2026. We zien u graag dan! \nGratis kinderspeurtocht\nMet kinderen op speurtocht in de Sint-Joriskerk? Kinderen kunnen tijdens de openstelling een (gratis!) speurtocht komen doen. Begeleiding van een volwassene verplicht\, meer informatie te vinden bij de ingang. \nEntree informatie\nDe kerk is geopend op dinsdag t/m zaterdag\, van 11:00 – 17:00 uur. Entree kost €2\, toegang tot 12 jaar\, of als Vriend van de Sint-Joriskerk\, gratis.
URL:https://new.joriskerkamersfoort.nl/evenement/reguliere-openstelling/2026-05-30/
LOCATION:Sint-Joriskerk\, Hof 1\, Amersfoort\, 3811 CJ\, Netherlands
CATEGORIES:Regulier
ATTACH;FMTTYPE=image/jpeg:https://new.joriskerkamersfoort.nl/wp-content/uploads/2026/03/Joriskerk_instagram_v12-scaled.jpg
END:VEVENT
END:VCALENDAR