BEGIN:VCALENDAR
VERSION:2.0
PRODID:-//Joriskerk Amersfoort - ECPv6.15.20//NONSGML v1.0//EN
CALSCALE:GREGORIAN
METHOD:PUBLISH
X-WR-CALNAME:Joriskerk Amersfoort
X-ORIGINAL-URL:https://new.joriskerkamersfoort.nl
X-WR-CALDESC:Evenementen voor Joriskerk Amersfoort
REFRESH-INTERVAL;VALUE=DURATION:PT1H
X-Robots-Tag:noindex
X-PUBLISHED-TTL:PT1H
BEGIN:VTIMEZONE
TZID:Europe/Amsterdam
BEGIN:DAYLIGHT
TZOFFSETFROM:+0100
TZOFFSETTO:+0200
TZNAME:CEST
DTSTART:20250330T010000
END:DAYLIGHT
BEGIN:STANDARD
TZOFFSETFROM:+0200
TZOFFSETTO:+0100
TZNAME:CET
DTSTART:20251026T010000
END:STANDARD
BEGIN:DAYLIGHT
TZOFFSETFROM:+0100
TZOFFSETTO:+0200
TZNAME:CEST
DTSTART:20260329T010000
END:DAYLIGHT
BEGIN:STANDARD
TZOFFSETFROM:+0200
TZOFFSETTO:+0100
TZNAME:CET
DTSTART:20261025T010000
END:STANDARD
BEGIN:DAYLIGHT
TZOFFSETFROM:+0100
TZOFFSETTO:+0200
TZNAME:CEST
DTSTART:20270328T010000
END:DAYLIGHT
BEGIN:STANDARD
TZOFFSETFROM:+0200
TZOFFSETTO:+0100
TZNAME:CET
DTSTART:20271031T010000
END:STANDARD
END:VTIMEZONE
BEGIN:VEVENT
DTSTART;TZID=Europe/Amsterdam:20260929T110000
DTEND;TZID=Europe/Amsterdam:20260929T170000
DTSTAMP:20260420T035539
CREATED:20260317T141537Z
LAST-MODIFIED:20260407T103217Z
UID:10000104-1790679600-1790701200@new.joriskerkamersfoort.nl
SUMMARY:Openingsdagen
DESCRIPTION:Tijdens de zomer is de Sint-Joriskerk van dinsdag t/m zaterdag geopend voor bezoekers. Een plaats van rust en stilte of om rond te kijken in het bijzondere gebouw. We openen van 13 mei t/m 3 oktober 2026. We zien u graag dan! \nGratis kinderspeurtocht\nMet kinderen op speurtocht in de Sint-Joriskerk? Kinderen kunnen tijdens de openstelling een (gratis!) speurtocht komen doen. Begeleiding van een volwassene verplicht\, meer informatie te vinden bij de ingang. \nEntree informatie\nDe kerk is geopend op dinsdag t/m zaterdag\, van 11:00 – 17:00 uur. Entree kost €2\, toegang tot 12 jaar\, of als Vriend van de Sint-Joriskerk\, gratis.
URL:https://new.joriskerkamersfoort.nl/evenement/reguliere-openstelling/2026-09-29/
LOCATION:Sint-Joriskerk\, Hof 1\, Amersfoort\, 3811 CJ\, Netherlands
CATEGORIES:Regulier
ATTACH;FMTTYPE=image/jpeg:https://new.joriskerkamersfoort.nl/wp-content/uploads/2026/03/Joriskerk_instagram_v12-scaled.jpg
END:VEVENT
BEGIN:VEVENT
DTSTART;TZID=Europe/Amsterdam:20260930T110000
DTEND;TZID=Europe/Amsterdam:20260930T170000
DTSTAMP:20260420T035539
CREATED:20260317T141537Z
LAST-MODIFIED:20260407T103217Z
UID:10000105-1790766000-1790787600@new.joriskerkamersfoort.nl
SUMMARY:Openingsdagen
DESCRIPTION:Tijdens de zomer is de Sint-Joriskerk van dinsdag t/m zaterdag geopend voor bezoekers. Een plaats van rust en stilte of om rond te kijken in het bijzondere gebouw. We openen van 13 mei t/m 3 oktober 2026. We zien u graag dan! \nGratis kinderspeurtocht\nMet kinderen op speurtocht in de Sint-Joriskerk? Kinderen kunnen tijdens de openstelling een (gratis!) speurtocht komen doen. Begeleiding van een volwassene verplicht\, meer informatie te vinden bij de ingang. \nEntree informatie\nDe kerk is geopend op dinsdag t/m zaterdag\, van 11:00 – 17:00 uur. Entree kost €2\, toegang tot 12 jaar\, of als Vriend van de Sint-Joriskerk\, gratis.
URL:https://new.joriskerkamersfoort.nl/evenement/reguliere-openstelling/2026-09-30/
LOCATION:Sint-Joriskerk\, Hof 1\, Amersfoort\, 3811 CJ\, Netherlands
CATEGORIES:Regulier
ATTACH;FMTTYPE=image/jpeg:https://new.joriskerkamersfoort.nl/wp-content/uploads/2026/03/Joriskerk_instagram_v12-scaled.jpg
END:VEVENT
BEGIN:VEVENT
DTSTART;TZID=Europe/Amsterdam:20261001T110000
DTEND;TZID=Europe/Amsterdam:20261001T170000
DTSTAMP:20260420T035539
CREATED:20260317T141537Z
LAST-MODIFIED:20260407T103217Z
UID:10000106-1790852400-1790874000@new.joriskerkamersfoort.nl
SUMMARY:Openingsdagen
DESCRIPTION:Tijdens de zomer is de Sint-Joriskerk van dinsdag t/m zaterdag geopend voor bezoekers. Een plaats van rust en stilte of om rond te kijken in het bijzondere gebouw. We openen van 13 mei t/m 3 oktober 2026. We zien u graag dan! \nGratis kinderspeurtocht\nMet kinderen op speurtocht in de Sint-Joriskerk? Kinderen kunnen tijdens de openstelling een (gratis!) speurtocht komen doen. Begeleiding van een volwassene verplicht\, meer informatie te vinden bij de ingang. \nEntree informatie\nDe kerk is geopend op dinsdag t/m zaterdag\, van 11:00 – 17:00 uur. Entree kost €2\, toegang tot 12 jaar\, of als Vriend van de Sint-Joriskerk\, gratis.
URL:https://new.joriskerkamersfoort.nl/evenement/reguliere-openstelling/2026-10-01/
LOCATION:Sint-Joriskerk\, Hof 1\, Amersfoort\, 3811 CJ\, Netherlands
CATEGORIES:Regulier
ATTACH;FMTTYPE=image/jpeg:https://new.joriskerkamersfoort.nl/wp-content/uploads/2026/03/Joriskerk_instagram_v12-scaled.jpg
END:VEVENT
BEGIN:VEVENT
DTSTART;TZID=Europe/Amsterdam:20261002T110000
DTEND;TZID=Europe/Amsterdam:20261002T170000
DTSTAMP:20260420T035539
CREATED:20260317T141537Z
LAST-MODIFIED:20260407T103217Z
UID:10000107-1790938800-1790960400@new.joriskerkamersfoort.nl
SUMMARY:Openingsdagen
DESCRIPTION:Tijdens de zomer is de Sint-Joriskerk van dinsdag t/m zaterdag geopend voor bezoekers. Een plaats van rust en stilte of om rond te kijken in het bijzondere gebouw. We openen van 13 mei t/m 3 oktober 2026. We zien u graag dan! \nGratis kinderspeurtocht\nMet kinderen op speurtocht in de Sint-Joriskerk? Kinderen kunnen tijdens de openstelling een (gratis!) speurtocht komen doen. Begeleiding van een volwassene verplicht\, meer informatie te vinden bij de ingang. \nEntree informatie\nDe kerk is geopend op dinsdag t/m zaterdag\, van 11:00 – 17:00 uur. Entree kost €2\, toegang tot 12 jaar\, of als Vriend van de Sint-Joriskerk\, gratis.
URL:https://new.joriskerkamersfoort.nl/evenement/reguliere-openstelling/2026-10-02/
LOCATION:Sint-Joriskerk\, Hof 1\, Amersfoort\, 3811 CJ\, Netherlands
CATEGORIES:Regulier
ATTACH;FMTTYPE=image/jpeg:https://new.joriskerkamersfoort.nl/wp-content/uploads/2026/03/Joriskerk_instagram_v12-scaled.jpg
END:VEVENT
BEGIN:VEVENT
DTSTART;TZID=Europe/Amsterdam:20261003T110000
DTEND;TZID=Europe/Amsterdam:20261003T170000
DTSTAMP:20260420T035539
CREATED:20260317T141537Z
LAST-MODIFIED:20260407T103217Z
UID:10000108-1791025200-1791046800@new.joriskerkamersfoort.nl
SUMMARY:Openingsdagen
DESCRIPTION:Tijdens de zomer is de Sint-Joriskerk van dinsdag t/m zaterdag geopend voor bezoekers. Een plaats van rust en stilte of om rond te kijken in het bijzondere gebouw. We openen van 13 mei t/m 3 oktober 2026. We zien u graag dan! \nGratis kinderspeurtocht\nMet kinderen op speurtocht in de Sint-Joriskerk? Kinderen kunnen tijdens de openstelling een (gratis!) speurtocht komen doen. Begeleiding van een volwassene verplicht\, meer informatie te vinden bij de ingang. \nEntree informatie\nDe kerk is geopend op dinsdag t/m zaterdag\, van 11:00 – 17:00 uur. Entree kost €2\, toegang tot 12 jaar\, of als Vriend van de Sint-Joriskerk\, gratis.
URL:https://new.joriskerkamersfoort.nl/evenement/reguliere-openstelling/2026-10-03/
LOCATION:Sint-Joriskerk\, Hof 1\, Amersfoort\, 3811 CJ\, Netherlands
CATEGORIES:Regulier
ATTACH;FMTTYPE=image/jpeg:https://new.joriskerkamersfoort.nl/wp-content/uploads/2026/03/Joriskerk_instagram_v12-scaled.jpg
END:VEVENT
END:VCALENDAR